BEGIN:VCALENDAR
VERSION:2.0
PRODID:-//Bosenbach - ECPv6.15.14//NONSGML v1.0//EN
CALSCALE:GREGORIAN
METHOD:PUBLISH
X-WR-CALNAME:Bosenbach
X-ORIGINAL-URL:https://bosenbach.de
X-WR-CALDESC:Veranstaltungen für Bosenbach
REFRESH-INTERVAL;VALUE=DURATION:PT1H
X-Robots-Tag:noindex
X-PUBLISHED-TTL:PT1H
BEGIN:VTIMEZONE
TZID:Europe/Berlin
BEGIN:DAYLIGHT
TZOFFSETFROM:+0100
TZOFFSETTO:+0200
TZNAME:CEST
DTSTART:20230326T010000
END:DAYLIGHT
BEGIN:STANDARD
TZOFFSETFROM:+0200
TZOFFSETTO:+0100
TZNAME:CET
DTSTART:20231029T010000
END:STANDARD
BEGIN:DAYLIGHT
TZOFFSETFROM:+0100
TZOFFSETTO:+0200
TZNAME:CEST
DTSTART:20240331T010000
END:DAYLIGHT
BEGIN:STANDARD
TZOFFSETFROM:+0200
TZOFFSETTO:+0100
TZNAME:CET
DTSTART:20241027T010000
END:STANDARD
BEGIN:DAYLIGHT
TZOFFSETFROM:+0100
TZOFFSETTO:+0200
TZNAME:CEST
DTSTART:20250330T010000
END:DAYLIGHT
BEGIN:STANDARD
TZOFFSETFROM:+0200
TZOFFSETTO:+0100
TZNAME:CET
DTSTART:20251026T010000
END:STANDARD
END:VTIMEZONE
BEGIN:VEVENT
DTSTART;TZID=Europe/Berlin:20240309T193000
DTEND;TZID=Europe/Berlin:20240310T030000
DTSTAMP:20260424T163010
CREATED:20240308T150043Z
LAST-MODIFIED:20240308T150043Z
UID:3109-1710012600-1710039600@bosenbach.de
SUMMARY:Dance Night mit Hit-Connection
DESCRIPTION:Werbeplakat
URL:https://bosenbach.de/event/dance-night-mit-hit-connection/
LOCATION:DGH Bosenbach\, Eckstraße 28\, Bosenbach\, Rheinland - Pfalz\, 66887\, Deutschland
CATEGORIES:Musikveranstaltung
END:VEVENT
END:VCALENDAR